BEGIN:VCALENDAR
VERSION:2.0
PRODID:-//DIGITAAL PLATFORM VOOR VEILIGHEID - ECPv6.12.0.1//NONSGML v1.0//EN
CALSCALE:GREGORIAN
METHOD:PUBLISH
X-ORIGINAL-URL:https://digitaal.vuurroodbv.nl/en/
X-WR-CALDESC:Events for DIGITAAL PLATFORM VOOR VEILIGHEID
REFRESH-INTERVAL;VALUE=DURATION:PT1H
X-Robots-Tag:noindex
X-PUBLISHED-TTL:PT1H
BEGIN:VTIMEZONE
TZID:Europe/Amsterdam
BEGIN:DAYLIGHT
TZOFFSETFROM:+0100
TZOFFSETTO:+0200
TZNAME:CEST
DTSTART:20250330T010000
END:DAYLIGHT
BEGIN:STANDARD
TZOFFSETFROM:+0200
TZOFFSETTO:+0100
TZNAME:CET
DTSTART:20251026T010000
END:STANDARD
END:VTIMEZONE
BEGIN:VEVENT
DTSTART;TZID=Europe/Amsterdam:20251212T083000
DTEND;TZID=Europe/Amsterdam:20251212T170000
DTSTAMP:20260419T220047
CREATED:20250110T144440Z
LAST-MODIFIED:20250110T144440Z
UID:10005414-1765528200-1765558800@digitaal.vuurroodbv.nl
SUMMARY:SCC-VIL Course Day with Exam 12-12-2025
DESCRIPTION:Starting Situation\nThe minimum allowed age is 16 years. \n\nThis includes: \n\n FREE Practice Exam\nLocation for theory and practical lessons.\nExam fees and certificate.\nLocation for the exam.\nCoffee / tea.\nExtensive lunch.\n\nValidity\nThe VCA/SCC course concludes with a nationally recognized exam. \n\nThe final exam is recognized by\, among others\, Het Certificaat and/or Pontifex. The VCA certificate obtained during this course is valid for 10 years.
URL:https://digitaal.vuurroodbv.nl/en/event/scc-vil-course-day-with-exam-12-12-2025/
LOCATION:Veiligheidscentrum Haaglanden\, Junostraat 12\, Den Haag\, Zuid-Holland\, 2516 BR
CATEGORIES:SCC,Total certificate,VIL-VCU-ENG
END:VEVENT
END:VCALENDAR