BEGIN:VCALENDAR
VERSION:2.0
PRODID:-//DIGITAAL PLATFORM VOOR VEILIGHEID - ECPv6.12.0.1//NONSGML v1.0//EN
CALSCALE:GREGORIAN
METHOD:PUBLISH
X-ORIGINAL-URL:https://digitaal.vuurroodbv.nl
X-WR-CALDESC:Evenementen voor DIGITAAL PLATFORM VOOR VEILIGHEID
REFRESH-INTERVAL;VALUE=DURATION:PT1H
X-Robots-Tag:noindex
X-PUBLISHED-TTL:PT1H
BEGIN:VTIMEZONE
TZID:Europe/Amsterdam
BEGIN:DAYLIGHT
TZOFFSETFROM:+0100
TZOFFSETTO:+0200
TZNAME:CEST
DTSTART:20250330T010000
END:DAYLIGHT
BEGIN:STANDARD
TZOFFSETFROM:+0200
TZOFFSETTO:+0100
TZNAME:CET
DTSTART:20251026T010000
END:STANDARD
END:VTIMEZONE
BEGIN:VEVENT
DTSTART;TZID=Europe/Amsterdam:20251202T090000
DTEND;TZID=Europe/Amsterdam:20251202T173000
DTSTAMP:20260423T155330
CREATED:20241227T160024Z
LAST-MODIFIED:20250106T101240Z
UID:10005302-1764666000-1764696600@digitaal.vuurroodbv.nl
SUMMARY:VIL-VCU Examen 12-2-2025
DESCRIPTION:Beginsituatie\nMinimale toegestane leeftijd is 16 jaar. \nDit is inclusief: \n\nGRATIS Proefexamen\nExamengelden en certificaat.\nLocatie voor examen\n\nGeldigheidsduur\nEen VCA examen wordt afgesloten met een landelijk erkend examen.\nHet afsluitende examen is erkend door Het Certificaat en/of Pontifex. Het VCA certificaat dat tijdens dit examen behaald kan worden is 10 jaar geldig.
URL:https://digitaal.vuurroodbv.nl/event/vil-vcu-examen-12-2-2025/
LOCATION:Veiligheidscentrum Noord-Holland\, Noord-Holland\, Nederland
CATEGORIES:BHV,BHV Basis,Totaalcertificaat,VCA,VIL-VCU
END:VEVENT
BEGIN:VEVENT
DTSTART;TZID=Europe/Amsterdam:20251203T090000
DTEND;TZID=Europe/Amsterdam:20251203T173000
DTSTAMP:20260423T155330
CREATED:20241227T160024Z
LAST-MODIFIED:20250106T101225Z
UID:10005301-1764752400-1764783000@digitaal.vuurroodbv.nl
SUMMARY:VIL-VCU Examen 12-3-2025
DESCRIPTION:Beginsituatie\nMinimale toegestane leeftijd is 16 jaar. \nDit is inclusief: \n\nGRATIS Proefexamen\nExamengelden en certificaat.\nLocatie voor examen\n\nGeldigheidsduur\nEen VCA examen wordt afgesloten met een landelijk erkend examen.\nHet afsluitende examen is erkend door Het Certificaat en/of Pontifex. Het VCA certificaat dat tijdens dit examen behaald kan worden is 10 jaar geldig.
URL:https://digitaal.vuurroodbv.nl/event/vil-vcu-examen-12-3-2025/
LOCATION:Veiligheidscentrum Noord-Holland\, Noord-Holland\, Nederland
CATEGORIES:BHV,BHV Basis,Totaalcertificaat,VCA,VIL-VCU
END:VEVENT
BEGIN:VEVENT
DTSTART;TZID=Europe/Amsterdam:20251211T090000
DTEND;TZID=Europe/Amsterdam:20251211T170000
DTSTAMP:20260423T155330
CREATED:20241127T085654Z
LAST-MODIFIED:20250107T153648Z
UID:10004378-1765443600-1765472400@digitaal.vuurroodbv.nl
SUMMARY:BHV Basis + AED Praktijkdag met E-Learning 11-12-2025
DESCRIPTION:Vereisten \n\nMinimaal 16 jaar oud\nDichte schoensel (I.V.M. Brandoefening op de praktijkcursusdag)\nGeldig ID\nGoede humeur\nBereidheid om andere te helpen\n\n\nTijdens de cursus leert u de volgende competenties:\n\n\n\n        \n\n                            \n                            \n                                Bedrijshulpverlening Basis\, Praktijkdag met E-Learning: Twee dagdelen                \n                                                    \n                            \n                            \n                                                \n                                            \n                                                \n                                        \n                            \n                            \n                                1e dagdeel                \n                                            \n                                2e dagdeel                \n                                        \n                            \n                            \n                                Veiligheid                \n                                            \n                                De BHV'er                \n                                        \n                            \n                            \n                                - benaderen slachtoffer                \n                                            \n                                - wat is een BHV'er                \n                                        \n                            \n                            \n                                Bewustzijn                \n                                            \n                                Branddriehoek                \n                                        \n                            \n                            \n                                - melden 112                \n                                            \n                                Brandklassen                \n                                        \n                            \n                            \n                                Ademhaling                \n                                            \n                                - wat zijn brandklassen                \n                                        \n                            \n                            \n                                - stabiele zijligging                \n                                            \n                                Brandblusmiddelen                \n                                        \n                            \n                            \n                                Reanimatie met AED                \n                                            \n                                Deurprocedure                \n                                        \n                            \n                            \n                                Verslikking / Verstikking                \n                                            \n                                Echte branden blussen (5 verschillende)                \n                                        \n                            \n                            \n                                Ernstige verwondingen                \n                                            \n                                - prullenbak                \n                                        \n                            \n                            \n                                Shock                \n                                            \n                                - blusbak                \n                                        \n                            \n                            \n                                Overig letsel                \n                                            \n                                - persoon (pop)                \n                                        \n                            \n                            \n                                - brandwonden                \n                                            \n                                Ontruiming                \n                                        \n                            \n                            \n                                - botbreuken                \n                                            \n                                Communicatie & Alarmering                \n                                        \n                            \n                            \n                                - ziektebeelden                \n                                            \n                                                \n                                        \n                            \n                            \n                                - oogletsel                \n                                            \n                                                \n                                        \n                            \n                            \n                                - overige kleine letsels                \n                                            \n                                                \n                                        \n                    \n\n \nDit is inclusief: \n\nLocatie voor theorie- en praktijklessen.\nLocatie voor examen.\nE-learning 
URL:https://digitaal.vuurroodbv.nl/event/bhv-basis-aed-praktijkdag-met-e-learning-11-12-2025/
LOCATION:Veiligheidscentrum Haaglanden\, Junostraat 12\, Den Haag\, Zuid-Holland\, 2516 BR
CATEGORIES:BHV,BHV Basis,Totaalcertificaat
END:VEVENT
BEGIN:VEVENT
DTSTART;TZID=Europe/Amsterdam:20251211T090000
DTEND;TZID=Europe/Amsterdam:20251211T173000
DTSTAMP:20260423T155330
CREATED:20241227T160024Z
LAST-MODIFIED:20250106T101255Z
UID:10005303-1765443600-1765474200@digitaal.vuurroodbv.nl
SUMMARY:VIL-VCU Examen 12-11-2025
DESCRIPTION:Beginsituatie\nMinimale toegestane leeftijd is 16 jaar. \nDit is inclusief: \n\nGRATIS Proefexamen\nExamengelden en certificaat.\nLocatie voor examen\n\nGeldigheidsduur\nEen VCA examen wordt afgesloten met een landelijk erkend examen.\nHet afsluitende examen is erkend door Het Certificaat en/of Pontifex. Het VCA certificaat dat tijdens dit examen behaald kan worden is 10 jaar geldig.
URL:https://digitaal.vuurroodbv.nl/event/vil-vcu-examen-12-11-2025/
LOCATION:Veiligheidscentrum Noord-Holland\, Noord-Holland\, Nederland
CATEGORIES:BHV,BHV Basis,Totaalcertificaat,VCA,VIL-VCU
END:VEVENT
BEGIN:VEVENT
DTSTART;TZID=Europe/Amsterdam:20251212T090000
DTEND;TZID=Europe/Amsterdam:20251212T173000
DTSTAMP:20260423T155330
CREATED:20241227T160010Z
LAST-MODIFIED:20250106T093245Z
UID:10005274-1765530000-1765560600@digitaal.vuurroodbv.nl
SUMMARY:VIL-VCU Examen 12-12-2025
DESCRIPTION:Beginsituatie\nMinimale toegestane leeftijd is 16 jaar. \nDit is inclusief: \n\nGRATIS Proefexamen\nExamengelden en certificaat.\nLocatie voor examen\n\nGeldigheidsduur\nEen VCA examen wordt afgesloten met een landelijk erkend examen.\nHet afsluitende examen is erkend door Het Certificaat en/of Pontifex. Het VCA certificaat dat tijdens dit examen behaald kan worden is 10 jaar geldig.
URL:https://digitaal.vuurroodbv.nl/event/vil-vcu-examen-12-12-2025/
LOCATION:Veiligheidscentrum Haaglanden\, Junostraat 12\, Den Haag\, Zuid-Holland\, 2516 BR
CATEGORIES:BHV,BHV Basis,Totaalcertificaat,VCA,VIL-VCU
END:VEVENT
BEGIN:VEVENT
DTSTART;TZID=Europe/Amsterdam:20251216T090000
DTEND;TZID=Europe/Amsterdam:20251216T170000
DTSTAMP:20260423T155330
CREATED:20241127T085654Z
LAST-MODIFIED:20250107T153644Z
UID:10004326-1765875600-1765904400@digitaal.vuurroodbv.nl
SUMMARY:BHV Basis + AED Praktijkdag met E-Learning 16-12-2025
DESCRIPTION:Vereisten \n\nMinimaal 16 jaar oud\nDichte schoensel (I.V.M. Brandoefening op de praktijkcursusdag)\nGeldig ID\nGoede humeur\nBereidheid om andere te helpen\n\n\nTijdens de cursus leert u de volgende competenties:\n\n\n\n        \n\n                            \n                            \n                                Bedrijshulpverlening Basis\, Praktijkdag met E-Learning: Twee dagdelen                \n                                                    \n                            \n                            \n                                                \n                                            \n                                                \n                                        \n                            \n                            \n                                1e dagdeel                \n                                            \n                                2e dagdeel                \n                                        \n                            \n                            \n                                Veiligheid                \n                                            \n                                De BHV'er                \n                                        \n                            \n                            \n                                - benaderen slachtoffer                \n                                            \n                                - wat is een BHV'er                \n                                        \n                            \n                            \n                                Bewustzijn                \n                                            \n                                Branddriehoek                \n                                        \n                            \n                            \n                                - melden 112                \n                                            \n                                Brandklassen                \n                                        \n                            \n                            \n                                Ademhaling                \n                                            \n                                - wat zijn brandklassen                \n                                        \n                            \n                            \n                                - stabiele zijligging                \n                                            \n                                Brandblusmiddelen                \n                                        \n                            \n                            \n                                Reanimatie met AED                \n                                            \n                                Deurprocedure                \n                                        \n                            \n                            \n                                Verslikking / Verstikking                \n                                            \n                                Echte branden blussen (5 verschillende)                \n                                        \n                            \n                            \n                                Ernstige verwondingen                \n                                            \n                                - prullenbak                \n                                        \n                            \n                            \n                                Shock                \n                                            \n                                - blusbak                \n                                        \n                            \n                            \n                                Overig letsel                \n                                            \n                                - persoon (pop)                \n                                        \n                            \n                            \n                                - brandwonden                \n                                            \n                                Ontruiming                \n                                        \n                            \n                            \n                                - botbreuken                \n                                            \n                                Communicatie & Alarmering                \n                                        \n                            \n                            \n                                - ziektebeelden                \n                                            \n                                                \n                                        \n                            \n                            \n                                - oogletsel                \n                                            \n                                                \n                                        \n                            \n                            \n                                - overige kleine letsels                \n                                            \n                                                \n                                        \n                    \n\n \nDit is inclusief: \n\nLocatie voor theorie- en praktijklessen.\nLocatie voor examen.\nE-learning 
URL:https://digitaal.vuurroodbv.nl/event/bhv-basis-aed-praktijkdag-met-e-learning-16-12-2025/
LOCATION:Veiligheidscentrum Noord-Holland\, Noord-Holland\, Nederland
CATEGORIES:BHV,BHV Basis,Totaalcertificaat
END:VEVENT
END:VCALENDAR