BEGIN:VCALENDAR
VERSION:2.0
PRODID:-//DIGITAAL PLATFORM VOOR VEILIGHEID - ECPv6.12.0.1//NONSGML v1.0//EN
CALSCALE:GREGORIAN
METHOD:PUBLISH
X-WR-CALNAME:DIGITAAL PLATFORM VOOR VEILIGHEID
X-ORIGINAL-URL:https://digitaal.vuurroodbv.nl
X-WR-CALDESC:Evenementen voor DIGITAAL PLATFORM VOOR VEILIGHEID
REFRESH-INTERVAL;VALUE=DURATION:PT1H
X-Robots-Tag:noindex
X-PUBLISHED-TTL:PT1H
BEGIN:VTIMEZONE
TZID:Europe/Amsterdam
BEGIN:DAYLIGHT
TZOFFSETFROM:+0100
TZOFFSETTO:+0200
TZNAME:CEST
DTSTART:20250330T010000
END:DAYLIGHT
BEGIN:STANDARD
TZOFFSETFROM:+0200
TZOFFSETTO:+0100
TZNAME:CET
DTSTART:20251026T010000
END:STANDARD
END:VTIMEZONE
BEGIN:VEVENT
DTSTART;TZID=Europe/Amsterdam:20251211T090000
DTEND;TZID=Europe/Amsterdam:20251211T170000
DTSTAMP:20260422T043816
CREATED:20241127T085759Z
LAST-MODIFIED:20241127T095418Z
UID:10004359-1765443600-1765472400@digitaal.vuurroodbv.nl
SUMMARY:BHV Kind Herhaling + AED Praktijkdag met E-learning 11-12-2025
DESCRIPTION:Vereisten \n\nMinimaal 16 jaar oud\nGeldig certificaat\nDichte schoensel (I.V.M. Brandoefening op de praktijkcursusdag)\nGeldig ID\nGoede humeur\nBereidheid om andere te helpen\n\n\nTijdens de cursus leert u de volgende competenties:\n\n\n\n        \n\n                            \n                            \n                                Bedrijshulpverlening Kind Herhaling\, Praktijkdag met E-Learning: Eén cursus praktijkdag                \n                                                    \n                            \n                            \n                                                \n                                            \n                                                \n                                        \n                            \n                            \n                                                \n                                            \n                                                \n                                        \n                            \n                            \n                                Veiligheid                \n                                            \n                                De BHV'er                \n                                        \n                            \n                            \n                                - benaderen slachtoffer                \n                                            \n                                - wat is een BHV'er                \n                                        \n                            \n                            \n                                Bewustzijn                \n                                            \n                                Branddriehoek                \n                                        \n                            \n                            \n                                - melden 112                \n                                            \n                                Brandklassen                \n                                        \n                            \n                            \n                                Ademhaling                \n                                            \n                                - wat zijn brandklassen                \n                                        \n                            \n                            \n                                - stabiele zijligging                \n                                            \n                                Brandblusmiddelen                \n                                        \n                            \n                            \n                                Reanimatie met AED                \n                                            \n                                Deurprocedure                \n                                        \n                            \n                            \n                                Verslikking / Verstikking                \n                                            \n                                Echte branden blussen (5 verschillende)                \n                                        \n                            \n                            \n                                Ernstige verwondingen                \n                                            \n                                - prullenbak                \n                                        \n                            \n                            \n                                Shock                \n                                            \n                                - blusbak                \n                                        \n                            \n                            \n                                Overig letsel                \n                                            \n                                - persoon (pop)                \n                                        \n                            \n                            \n                                - brandwonden                \n                                            \n                                Ontruiming                \n                                        \n                            \n                            \n                                - botbreuken                \n                                            \n                                Communicatie & Alarmering                \n                                        \n                            \n                            \n                                - ziektebeelden                \n                                            \n                                                \n                                        \n                            \n                            \n                                - oogletsel                \n                                            \n                                                \n                                        \n                            \n                            \n                                - overige kleine letsels                \n                                            \n                                                \n                                        \n                    \n\n \nDit is inclusief: \n\nLocatie voor theorie- en praktijklessen.\nLocatie voor examen.\nE-learning 
URL:https://digitaal.vuurroodbv.nl/event/bhv-kind-herhaling-aed-praktijkdag-met-e-learning-11-12-2025/
LOCATION:Veiligheidscentrum Haaglanden\, Junostraat 12\, Den Haag\, Zuid-Holland\, 2516 BR
CATEGORIES:BHV,BHV Herhaling,BHV Kind,BHV Kind Herhaling,Totaalcertificaat
END:VEVENT
BEGIN:VEVENT
DTSTART;TZID=Europe/Amsterdam:20251216T090000
DTEND;TZID=Europe/Amsterdam:20251216T170000
DTSTAMP:20260422T043816
CREATED:20241127T085719Z
LAST-MODIFIED:20250107T152415Z
UID:10004324-1765875600-1765904400@digitaal.vuurroodbv.nl
SUMMARY:BHV Herhaling + AED Praktijkdag met E-Learning 16-12-2025
DESCRIPTION:Vereisten \n\nMinimaal 16 jaar oud\nGeldig certificaat\nDichte schoensel (I.V.M. Brandoefening op de praktijkcursusdag)\nGeldig ID\nGoede humeur\nBereidheid om andere te helpen\n\n\nTijdens de cursus leert u de volgende competenties:\n\n\n\n        \n\n                            \n                            \n                                Bedrijshulpverlening Herhaling\, Praktijkdag met E-Learning: Met twee cursus praktijk dagdelen                 \n                                                    \n                            \n                            \n                                                \n                                            \n                                                \n                                        \n                            \n                            \n                                1e dagdeel                \n                                            \n                                2e dagdeel                \n                                        \n                            \n                            \n                                Veiligheid                \n                                            \n                                De BHV'er                \n                                        \n                            \n                            \n                                - benaderen slachtoffer                \n                                            \n                                - wat is een BHV'er                \n                                        \n                            \n                            \n                                Bewustzijn                \n                                            \n                                Branddriehoek                \n                                        \n                            \n                            \n                                - melden 112                \n                                            \n                                Brandklassen                \n                                        \n                            \n                            \n                                Ademhaling                \n                                            \n                                - wat zijn brandklassen                \n                                        \n                            \n                            \n                                - stabiele zijligging                \n                                            \n                                Brandblusmiddelen                \n                                        \n                            \n                            \n                                Reanimatie met AED                \n                                            \n                                Deurprocedure                \n                                        \n                            \n                            \n                                Verslikking / Verstikking                \n                                            \n                                Echte branden blussen (5 verschillende)                \n                                        \n                            \n                            \n                                Ernstige verwondingen                \n                                            \n                                - prullenbak                \n                                        \n                            \n                            \n                                Shock                \n                                            \n                                - blusbak                \n                                        \n                            \n                            \n                                Overig letsel                \n                                            \n                                - persoon (pop)                \n                                        \n                            \n                            \n                                - brandwonden                \n                                            \n                                Ontruiming                \n                                        \n                            \n                            \n                                - botbreuken                \n                                            \n                                Communicatie & Alarmering                \n                                        \n                            \n                            \n                                - ziektebeelden                \n                                            \n                                                \n                                        \n                            \n                            \n                                - oogletsel                \n                                            \n                                                \n                                        \n                            \n                            \n                                - overige kleine letsels                \n                                            \n                                                \n                                        \n                    \n\n \nDit is inclusief: \n\nLocatie voor theorie- en praktijklessen.\nLocatie voor examen.\nE-learning 
URL:https://digitaal.vuurroodbv.nl/event/bhv-herhaling-aed-praktijkdag-met-e-learning-16-12-2025/
LOCATION:Veiligheidscentrum Noord-Holland\, Noord-Holland\, Nederland
CATEGORIES:BHV,BHV Herhaling,Totaalcertificaat
END:VEVENT
END:VCALENDAR