BEGIN:VCALENDAR
VERSION:2.0
PRODID:-//DIGITAAL PLATFORM VOOR VEILIGHEID - ECPv6.12.0.1//NONSGML v1.0//EN
CALSCALE:GREGORIAN
METHOD:PUBLISH
X-ORIGINAL-URL:https://digitaal.vuurroodbv.nl
X-WR-CALDESC:Evenementen voor DIGITAAL PLATFORM VOOR VEILIGHEID
REFRESH-INTERVAL;VALUE=DURATION:PT1H
X-Robots-Tag:noindex
X-PUBLISHED-TTL:PT1H
BEGIN:VTIMEZONE
TZID:Europe/Amsterdam
BEGIN:DAYLIGHT
TZOFFSETFROM:+0100
TZOFFSETTO:+0200
TZNAME:CEST
DTSTART:20250330T010000
END:DAYLIGHT
BEGIN:STANDARD
TZOFFSETFROM:+0200
TZOFFSETTO:+0100
TZNAME:CET
DTSTART:20251026T010000
END:STANDARD
END:VTIMEZONE
BEGIN:VEVENT
DTSTART;TZID=Europe/Amsterdam:20251105T090000
DTEND;TZID=Europe/Amsterdam:20251105T170000
DTSTAMP:20260419T222456
CREATED:20241127T085820Z
LAST-MODIFIED:20241127T102247Z
UID:10004451-1762333200-1762362000@digitaal.vuurroodbv.nl
SUMMARY:BHV Kind Herhaling Praktijkdag deelcertificaat 5-11-2025
DESCRIPTION:Vereisten \n\nMinimaal 16 jaar oud\nGeldig certificaat\nDichte schoensel (I.V.M. Brandoefening op de praktijkcursusdag)\nGeldig ID\nGoede humeur\nBereidheid om andere te helpen\n\n\nTijdens de cursus leert u de volgende competenties:\n\n\n\n        \n\n                            \n                            \n                                Bedrijshulpverlening Kind Herhaling: Twee cursus praktijk dagdelen                 \n                                                    \n                            \n                            \n                                                \n                                            \n                                                \n                                        \n                            \n                            \n                                                \n                                            \n                                                \n                                        \n                            \n                            \n                                Veiligheid baby / kind                \n                                            \n                                Reanimatie  baby / kind                \n                                        \n                            \n                            \n                                - benaderen slachtoffer                \n                                            \n                                AED baby / kind                \n                                        \n                            \n                            \n                                Bewustzijn                \n                                            \n                                Verslikking / Verstikking baby / kind                \n                                        \n                            \n                            \n                                - melden 112                \n                                            \n                                Ernstige verwondingen baby / kind                \n                                        \n                            \n                            \n                                Ademhaling baby / kind                \n                                            \n                                - traumazwachtel                \n                                        \n                            \n                            \n                                - stabiele zijligging                \n                                            \n                                Shock baby / kind                \n                                        \n                            \n                            \n                                Brandwonden baby / kind                \n                                            \n                                Ziektebeelden baby / kind:                \n                                        \n                            \n                            \n                                Botbreuken baby / kind                \n                                            \n                                - suikerziekte                \n                                        \n                            \n                            \n                                Oogletsel                \n                                            \n                                - koortsstuip                \n                                        \n                            \n                            \n                                Onderkoeling                \n                                            \n                                - allergiën                \n                                        \n                            \n                            \n                                Oververhitting                \n                                            \n                                Overige kleine letsels                \n                                        \n                            \n                            \n                                                \n                                            \n                                - vergiftiging\, bloedneus\, uitgeslagen tand enz.                \n                                        \n                    \n\n \nDit is inclusief: \n\nLocatie voor theorie- en praktijklessen.\nLocatie voor examen.\nExamengelden en certificaat.\nKoffie / thee.\nUitgebreide lunch.\n\nGeldigheidsduur \n\nHet certificaat BHV van Vuurrood Veiligheid is 1 jaar geldig. \nDe jaarlijkse bijscholing is een 8 uur durende herhaling praktijkcursus. Dit certificaat is ook geldig als deelcertificaat van de Eerste Hulp bij Ongelukken cursus.
URL:https://digitaal.vuurroodbv.nl/event/bhv-kind-herhaling-praktijkdag-deelcertificaat-5-11-2025/
LOCATION:Veiligheidscentrum Haaglanden\, Junostraat 12\, Den Haag\, Zuid-Holland\, 2516 BR
CATEGORIES:BHV,BHV Kind,BHV Kind Herhaling,Deelcertificaat
END:VEVENT
BEGIN:VEVENT
DTSTART;TZID=Europe/Amsterdam:20251120T090000
DTEND;TZID=Europe/Amsterdam:20251120T170000
DTSTAMP:20260419T222456
CREATED:20241127T085820Z
LAST-MODIFIED:20241127T101036Z
UID:10004407-1763629200-1763658000@digitaal.vuurroodbv.nl
SUMMARY:BHV Kind Herhaling Praktijkdag deelcertificaat 20-11-2025
DESCRIPTION:Vereisten \n\nMinimaal 16 jaar oud\nGeldig certificaat\nDichte schoensel (I.V.M. Brandoefening op de praktijkcursusdag)\nGeldig ID\nGoede humeur\nBereidheid om andere te helpen\n\n\nTijdens de cursus leert u de volgende competenties:\n\n\n\n        \n\n                            \n                            \n                                Bedrijshulpverlening Kind Herhaling: Twee cursus praktijk dagdelen                 \n                                                    \n                            \n                            \n                                                \n                                            \n                                                \n                                        \n                            \n                            \n                                                \n                                            \n                                                \n                                        \n                            \n                            \n                                Veiligheid baby / kind                \n                                            \n                                Reanimatie  baby / kind                \n                                        \n                            \n                            \n                                - benaderen slachtoffer                \n                                            \n                                AED baby / kind                \n                                        \n                            \n                            \n                                Bewustzijn                \n                                            \n                                Verslikking / Verstikking baby / kind                \n                                        \n                            \n                            \n                                - melden 112                \n                                            \n                                Ernstige verwondingen baby / kind                \n                                        \n                            \n                            \n                                Ademhaling baby / kind                \n                                            \n                                - traumazwachtel                \n                                        \n                            \n                            \n                                - stabiele zijligging                \n                                            \n                                Shock baby / kind                \n                                        \n                            \n                            \n                                Brandwonden baby / kind                \n                                            \n                                Ziektebeelden baby / kind:                \n                                        \n                            \n                            \n                                Botbreuken baby / kind                \n                                            \n                                - suikerziekte                \n                                        \n                            \n                            \n                                Oogletsel                \n                                            \n                                - koortsstuip                \n                                        \n                            \n                            \n                                Onderkoeling                \n                                            \n                                - allergiën                \n                                        \n                            \n                            \n                                Oververhitting                \n                                            \n                                Overige kleine letsels                \n                                        \n                            \n                            \n                                                \n                                            \n                                - vergiftiging\, bloedneus\, uitgeslagen tand enz.                \n                                        \n                    \n\n \nDit is inclusief: \n\nLocatie voor theorie- en praktijklessen.\nLocatie voor examen.\nExamengelden en certificaat.\nKoffie / thee.\nUitgebreide lunch.\n\nGeldigheidsduur \n\nHet certificaat BHV van Vuurrood Veiligheid is 1 jaar geldig. \nDe jaarlijkse bijscholing is een 8 uur durende herhaling praktijkcursus. Dit certificaat is ook geldig als deelcertificaat van de Eerste Hulp bij Ongelukken cursus.
URL:https://digitaal.vuurroodbv.nl/event/bhv-kind-herhaling-praktijkdag-deelcertificaat-20-11-2025/
LOCATION:Veiligheidscentrum Noord-Holland\, Noord-Holland\, Nederland
CATEGORIES:BHV,BHV Kind,BHV Kind Herhaling,Deelcertificaat
END:VEVENT
END:VCALENDAR