BEGIN:VCALENDAR
VERSION:2.0
PRODID:-//DIGITAAL PLATFORM VOOR VEILIGHEID - ECPv6.12.0.1//NONSGML v1.0//EN
CALSCALE:GREGORIAN
METHOD:PUBLISH
X-WR-CALNAME:DIGITAAL PLATFORM VOOR VEILIGHEID
X-ORIGINAL-URL:https://digitaal.vuurroodbv.nl
X-WR-CALDESC:Evenementen voor DIGITAAL PLATFORM VOOR VEILIGHEID
REFRESH-INTERVAL;VALUE=DURATION:PT1H
X-Robots-Tag:noindex
X-PUBLISHED-TTL:PT1H
BEGIN:VTIMEZONE
TZID:Europe/Amsterdam
BEGIN:DAYLIGHT
TZOFFSETFROM:+0100
TZOFFSETTO:+0200
TZNAME:CEST
DTSTART:20260329T010000
END:DAYLIGHT
BEGIN:STANDARD
TZOFFSETFROM:+0200
TZOFFSETTO:+0100
TZNAME:CET
DTSTART:20261025T010000
END:STANDARD
END:VTIMEZONE
BEGIN:VEVENT
DTSTART;TZID=Europe/Amsterdam:20260508T080000
DTEND;TZID=Europe/Amsterdam:20260508T170000
DTSTAMP:20260422T005051
CREATED:20260120T125420Z
LAST-MODIFIED:20260120T125420Z
UID:10005791-1778227200-1778259600@digitaal.vuurroodbv.nl
SUMMARY:Eerste Hulp EHBO Kind Basis Praktijkdag met E-Learning 8-5-2026
DESCRIPTION:Vereisten \n\nMinimaal 16 jaar oud\nGeldig certificaat\nGeldig ID\nGoede humeur\nBereidheid om andere te helpen\n\nTijdens de cursus leert u de volgende competenties: \n\n\n        \n\n                            \n                            \n                                Levensreddend Handelen Eerste Hulp Herhaling + E-learning : Twee dagdelen                \n                                            \n                                                \n                                        \n                            \n                            \n                                                \n                                            \n                                                \n                                        \n                            \n                            \n                                1e dagdeel                \n                                            \n                                2e dagdeel                \n                                        \n                            \n                            \n                                Veiligheid                \n                                            \n                                Verslikking / Verstikking                \n                                        \n                            \n                            \n                                  - benaderen slachtoffer                \n                                            \n                                Ernstige verwondingen                \n                                        \n                            \n                            \n                                Bewustzijn                \n                                            \n                                Shock                \n                                        \n                            \n                            \n                                  - melden 112                \n                                            \n                                Overig letsel                \n                                        \n                            \n                            \n                                Ademhaling                \n                                            \n                                 - brandwonden                \n                                        \n                            \n                            \n                                  - stabiele zijligging                \n                                            \n                                 - botbreuken                \n                                        \n                            \n                            \n                                Reanimatie met AED                \n                                            \n                                 - ziektebeelden                \n                                        \n                            \n                            \n                                                \n                                            \n                                 - oogletsel                \n                                        \n                            \n                            \n                                                \n                                            \n                                - overige kleine letsels                \n                                        \n                    \n\n\nDit is inclusief: \n\nLocatie voor theorie- en praktijklessen.\nLocatie voor examen.\nE-learning \nExamengelden en certificaat.\nKoffie / thee.\nUitgebreide lunch.\n\nGeldigheidsduur \nHet certificaat EHBO van Vuurrood Veiligheid is 1 jaar geldig.\nDe jaarlijkse bijscholing is een 8 uur durende herhaling praktijkcursus. Dit certificaat is ook geldig als deelcertificaat van de Eerste Hulp bij Ongelukken cursus.
URL:https://digitaal.vuurroodbv.nl/event/eerste-hulp-ehbo-kind-basis-praktijkdag-met-e-learning-8-5-2026/
LOCATION:Veiligheidscentrum Haaglanden\, Junostraat 12\, Den Haag\, Zuid-Holland\, 2516 BR
CATEGORIES:EHBO,EHBO Kind,EHBO Kind Basis,Totaalcertificaat
END:VEVENT
BEGIN:VEVENT
DTSTART;TZID=Europe/Amsterdam:20260508T080000
DTEND;TZID=Europe/Amsterdam:20260508T170000
DTSTAMP:20260422T005051
CREATED:20260120T131748Z
LAST-MODIFIED:20260120T131748Z
UID:10005795-1778227200-1778259600@digitaal.vuurroodbv.nl
SUMMARY:Eerste Hulp EHBO Kind Basis Praktijkdag deelcertificaat 8-5-2026
DESCRIPTION:Vereisten \n\nMinimaal 16 jaar oud\nGeldig ID\nGoede humeur\nBereidheid om andere te helpen\n\nTijdens de cursus leert u de volgende competenties: \n\n\n        \n\n                            \n                            \n                                Eerste Hulp Bij Ongelukken Herhaling: Met twee praktijk cursus dagdelen                \n                                                    \n                            \n                            \n                                                \n                                            \n                                                \n                                        \n                            \n                            \n                                1e dagdeel                \n                                            \n                                2e dagdeel                \n                                        \n                            \n                            \n                                Veiligheid                \n                                            \n                                Reanimatie                 \n                                        \n                            \n                            \n                                  - benaderen slachtoffer                \n                                            \n                                AED                \n                                        \n                            \n                            \n                                Bewustzijn                \n                                            \n                                Verslikking / Verstikking                \n                                        \n                            \n                            \n                                  - melden 112                \n                                            \n                                Ernstige verwondingen                \n                                        \n                            \n                            \n                                Ademhaling                \n                                            \n                                 - traumazwachtel                \n                                        \n                            \n                            \n                                  - stabiele zijligging                \n                                            \n                                Shock                \n                                        \n                    \n\n\nDit is inclusief: \n\nLocatie voor theorie- en praktijklessen.\nLocatie voor examen.\nExamengelden en certificaat.\nKoffie / thee.\nUitgebreide lunch.\n\nGeldigheidsduur \nHet deelcertificaat praktijkdag EHBO van Vuurrood Veiligheid is 1 jaar geldig.
URL:https://digitaal.vuurroodbv.nl/event/eerste-hulp-ehbo-kind-basis-praktijkdag-deelcertificaat-8-5-2026/
LOCATION:Veiligheidscentrum Haaglanden\, Junostraat 12\, Den Haag\, Zuid-Holland\, 2516 BR
CATEGORIES:Deelcertificaat,EHBO,EHBO Kind,EHBO Kind Basis
END:VEVENT
END:VCALENDAR